BEGIN:VCALENDAR
VERSION:2.0
PRODID:-//Student Services - ECPv5.8.1//NONSGML v1.0//EN
CALSCALE:GREGORIAN
METHOD:PUBLISH
X-WR-CALNAME:Student Services
X-ORIGINAL-URL:https://www.missouriwestern.edu/student-services
X-WR-CALDESC:Events for Student Services
BEGIN:VTIMEZONE
TZID:America/Chicago
BEGIN:DAYLIGHT
TZOFFSETFROM:-0600
TZOFFSETTO:-0500
TZNAME:CDT
DTSTART:20200308T080000
END:DAYLIGHT
BEGIN:STANDARD
TZOFFSETFROM:-0500
TZOFFSETTO:-0600
TZNAME:CST
DTSTART:20201101T070000
END:STANDARD
END:VTIMEZONE
BEGIN:VEVENT
DTSTART;TZID=America/Chicago:20200923T140000
DTEND;TZID=America/Chicago:20200923T160000
DTSTAMP:20260423T120818
CREATED:20200917T222151Z
LAST-MODIFIED:20210208T231753Z
UID:3206-1600869600-1600876800@www.missouriwestern.edu
SUMMARY:September 23 – 2 p.m – Prepare for the Fair Webinar
DESCRIPTION:2 p.m. \nWednesday\, Sept. 23 \nPrepare for the Fair Webinar
URL:https://www.missouriwestern.edu/student-services/event/september-23-2-p-m-prepare-for-the-fair-webinar/
LOCATION:4525 Downs Dr.\, St. Joseph\, MO\, 64507\, United States
CATEGORIES:Career Development
END:VEVENT
END:VCALENDAR