BEGIN:VCALENDAR
VERSION:2.0
PRODID:-//Student Services - ECPv5.8.1//NONSGML v1.0//EN
CALSCALE:GREGORIAN
METHOD:PUBLISH
X-WR-CALNAME:Student Services
X-ORIGINAL-URL:https://www.missouriwestern.edu/student-services
X-WR-CALDESC:Events for Student Services
BEGIN:VTIMEZONE
TZID:UTC
BEGIN:STANDARD
TZOFFSETFROM:+0000
TZOFFSETTO:+0000
TZNAME:UTC
DTSTART:20190101T000000
END:STANDARD
END:VTIMEZONE
BEGIN:VEVENT
DTSTART;VALUE=DATE:20190409
DTEND;VALUE=DATE:20190414
DTSTAMP:20260424T161704
CREATED:20190322T205917Z
LAST-MODIFIED:20190322T205917Z
UID:2198-1554768000-1555199999@www.missouriwestern.edu
SUMMARY:National Student Employment Week
DESCRIPTION:Missouri Western State University will be celebrating National Student Employment Week April 9- 13! Event details will be coming soon.
URL:https://www.missouriwestern.edu/student-services/event/national-student-employment-week/
CATEGORIES:Career Development
ATTACH;FMTTYPE=image/jpeg:https://www.missouriwestern.edu/student-services/wp-content/uploads/sites/130/2019/03/nsew.jpg
END:VEVENT
BEGIN:VEVENT
DTSTART;TZID=UTC:20190411T120000
DTEND;TZID=UTC:20190411T120000
DTSTAMP:20260424T161704
CREATED:20190326T000125Z
LAST-MODIFIED:20190326T002824Z
UID:2225-1554984000-1554984000@www.missouriwestern.edu
SUMMARY:William Gentry Presentation: The Science and Practice Behind Helping New (and Experienced) Leaders Succeed
DESCRIPTION:April 11\, 2019 at 12:00 p.m. in Blum 219 (Brown Bag Lunch)\nPresentation: The Science and Practice Behind Helping New (and Experienced) Leaders Succeed\nThe first 20 guests will receive Gentry’s book\, Be the Boss Everyone Wants to Work For \nThink about when you first became “the boss” in your life. What was it like? One of the hardest transitions in any leader’s career is the one from a high-potential individual contributor or professional to his or her first formal leadership position. During this interactive presentation\, you will learn practical\, actionable research-based tips and advice from Dr. William Gentry\, the author of the highly acclaimed book\, Be the Boss Everyone Wants to Work For: A Guide for New Leaders. As someone who researches and trains new leaders\, and is one himself\, Gentry will share the latest science and practice behind becoming the boss everyone wants to work for. Whether you are brand new to leadership\, someone who aspires to be in a leadership position one day\, or a person who has been in a leadership position for a while and wants to keep developing to be an effective leader\, this session is for you.
URL:https://www.missouriwestern.edu/student-services/event/william-gentry-presentations/
LOCATION:Blum Union\, Room 219\, 4525 Downs Drive\, Saint Joseph\, MO\, 64506\, United States
CATEGORIES:Career Development
ATTACH;FMTTYPE=image/jpeg:https://www.missouriwestern.edu/student-services/wp-content/uploads/sites/130/2019/03/gentry.jpg
END:VEVENT
BEGIN:VEVENT
DTSTART;TZID=UTC:20190411T141500
DTEND;TZID=UTC:20190411T141500
DTSTAMP:20260424T161704
CREATED:20190326T000632Z
LAST-MODIFIED:20190326T002521Z
UID:2233-1554992100-1554992100@www.missouriwestern.edu
SUMMARY:William Gentry Presentation: Six Ways to Flip your Script for Leadership Success
DESCRIPTION:April 11\, 2019 at 2:15 p.m. in Spratt 101\nPresentation: Six Ways to Flip your Script for Leadership Success\nThe first 180 students will receive Gentry’s book\, Be the Boss Everyone Wants to Work For \nSo many students will struggle when it’s time to make the toughest psychological and emotional shift in their professional career – the one from a high-potential individual contributor to leader. In this interactive presentation\, you will learn practical\, actionable research-based tips and advice from Dr. William Gentry\, the author of the highly acclaimed book\, Be the Boss Everyone Wants to Work For: A Guide for New Leaders. No matter if you are new to leadership or aspire to be a leader one day\, Dr. Gentry will help you understand the science\, practice\, and art of leadership. After this talk\, you will walk away with your own game plan to one day become the boss everyone wants to work for.
URL:https://www.missouriwestern.edu/student-services/event/william-gentry-presentation-six-ways-to-flip-your-script-for-leadership-success/
LOCATION:Spratt Hall\, Room 101\, 4525 Downs Drive\, Saint Joseph\, MO\, 64507\, United States
CATEGORIES:Career Development
ATTACH;FMTTYPE=image/jpeg:https://www.missouriwestern.edu/student-services/wp-content/uploads/sites/130/2019/03/gentry.jpg
END:VEVENT
END:VCALENDAR