BEGIN:VCALENDAR
VERSION:2.0
PRODID:-//Social Sciences and Humanities - ECPv5.8.1//NONSGML v1.0//EN
CALSCALE:GREGORIAN
METHOD:PUBLISH
X-WR-CALNAME:Social Sciences and Humanities
X-ORIGINAL-URL:https://www.missouriwestern.edu/social-sciences-and-humanities
X-WR-CALDESC:Events for Social Sciences and Humanities
BEGIN:VTIMEZONE
TZID:America/Chicago
BEGIN:DAYLIGHT
TZOFFSETFROM:-0600
TZOFFSETTO:-0500
TZNAME:CDT
DTSTART:20250309T080000
END:DAYLIGHT
BEGIN:STANDARD
TZOFFSETFROM:-0500
TZOFFSETTO:-0600
TZNAME:CST
DTSTART:20251102T070000
END:STANDARD
END:VTIMEZONE
BEGIN:VEVENT
DTSTART;TZID=America/Chicago:20250305T123000
DTEND;TZID=America/Chicago:20250305T133000
DTSTAMP:20260422T131048
CREATED:20250227T175709Z
LAST-MODIFIED:20250227T180020Z
UID:2025-1741177800-1741181400@www.missouriwestern.edu
SUMMARY:YouTube:  Yes\, it's still a thing - here's why
DESCRIPTION:
URL:https://www.missouriwestern.edu/social-sciences-and-humanities/event/youtube-yes-its-still-a-thing-heres-why/
LOCATION:Potter Hall 106
END:VEVENT
END:VCALENDAR