BEGIN:VCALENDAR
VERSION:2.0
PRODID:-//Social Sciences and Humanities - ECPv5.8.1//NONSGML v1.0//EN
CALSCALE:GREGORIAN
METHOD:PUBLISH
X-WR-CALNAME:Social Sciences and Humanities
X-ORIGINAL-URL:https://www.missouriwestern.edu/social-sciences-and-humanities
X-WR-CALDESC:Events for Social Sciences and Humanities
BEGIN:VTIMEZONE
TZID:America/Chicago
BEGIN:DAYLIGHT
TZOFFSETFROM:-0600
TZOFFSETTO:-0500
TZNAME:CDT
DTSTART:20250309T080000
END:DAYLIGHT
BEGIN:STANDARD
TZOFFSETFROM:-0500
TZOFFSETTO:-0600
TZNAME:CST
DTSTART:20251102T070000
END:STANDARD
END:VTIMEZONE
BEGIN:VEVENT
DTSTART;TZID=America/Chicago:20250402T180000
DTEND;TZID=America/Chicago:20250402T190000
DTSTAMP:20260422T131114
CREATED:20250227T180127Z
LAST-MODIFIED:20250227T180127Z
UID:2035-1743616800-1743620400@www.missouriwestern.edu
SUMMARY:Disability Representations in American Pop Culture
DESCRIPTION:
URL:https://www.missouriwestern.edu/social-sciences-and-humanities/event/disability-representations-in-american-pop-culture/
LOCATION:Rolling Hills Library
END:VEVENT
END:VCALENDAR