BEGIN:VCALENDAR
VERSION:2.0
PRODID:-//Music - ECPv5.8.1//NONSGML v1.0//EN
CALSCALE:GREGORIAN
METHOD:PUBLISH
X-WR-CALNAME:Music
X-ORIGINAL-URL:https://www.missouriwestern.edu/music
X-WR-CALDESC:Events for Music
BEGIN:VTIMEZONE
TZID:America/Chicago
BEGIN:DAYLIGHT
TZOFFSETFROM:-0600
TZOFFSETTO:-0500
TZNAME:CDT
DTSTART:20250309T080000
END:DAYLIGHT
BEGIN:STANDARD
TZOFFSETFROM:-0500
TZOFFSETTO:-0600
TZNAME:CST
DTSTART:20251102T070000
END:STANDARD
END:VTIMEZONE
BEGIN:VEVENT
DTSTART;TZID=America/Chicago:20251106T193000
DTEND;TZID=America/Chicago:20251106T210000
DTSTAMP:20260422T051516
CREATED:20251102T061153Z
LAST-MODIFIED:20251106T073557Z
UID:8415-1762457400-1762462800@www.missouriwestern.edu
SUMMARY:MWSU Trumpet Studio Recital
DESCRIPTION:
URL:https://www.missouriwestern.edu/music/event/mwsu-trumpet-studio-recital/
LOCATION:First Presbyterian Church of St. Joseph\, 301 N 7th St\, Saint Joseph\, MO\, United States
CATEGORIES:Instrumental
END:VEVENT
END:VCALENDAR