BEGIN:VCALENDAR
VERSION:2.0
PRODID:-//Music - ECPv5.8.1//NONSGML v1.0//EN
CALSCALE:GREGORIAN
METHOD:PUBLISH
X-WR-CALNAME:Music
X-ORIGINAL-URL:https://www.missouriwestern.edu/music
X-WR-CALDESC:Events for Music
BEGIN:VTIMEZONE
TZID:America/Chicago
BEGIN:DAYLIGHT
TZOFFSETFROM:-0600
TZOFFSETTO:-0500
TZNAME:CDT
DTSTART:20250309T080000
END:DAYLIGHT
BEGIN:STANDARD
TZOFFSETFROM:-0500
TZOFFSETTO:-0600
TZNAME:CST
DTSTART:20251102T070000
END:STANDARD
END:VTIMEZONE
BEGIN:VEVENT
DTSTART;TZID=America/Chicago:20250828T140000
DTEND;TZID=America/Chicago:20250828T150000
DTSTAMP:20260425T055250
CREATED:20250425T162829Z
LAST-MODIFIED:20250827T020413Z
UID:8029-1756389600-1756393200@www.missouriwestern.edu
SUMMARY:Bring a friend to Concert Chorale Party (during class)
DESCRIPTION:
URL:https://www.missouriwestern.edu/music/event/bring-a-friend-to-concert-chorale-party-during-class/
CATEGORIES:Choirs
END:VEVENT
END:VCALENDAR