BEGIN:VCALENDAR
VERSION:2.0
PRODID:-//Human Resources - ECPv5.8.1//NONSGML v1.0//EN
CALSCALE:GREGORIAN
METHOD:PUBLISH
X-WR-CALNAME:Human Resources
X-ORIGINAL-URL:https://www.missouriwestern.edu/hr
X-WR-CALDESC:Events for Human Resources
BEGIN:VTIMEZONE
TZID:America/Chicago
BEGIN:DAYLIGHT
TZOFFSETFROM:-0600
TZOFFSETTO:-0500
TZNAME:CDT
DTSTART:20250309T080000
END:DAYLIGHT
BEGIN:STANDARD
TZOFFSETFROM:-0500
TZOFFSETTO:-0600
TZNAME:CST
DTSTART:20251102T070000
END:STANDARD
END:VTIMEZONE
BEGIN:VEVENT
DTSTART;VALUE=DATE:20251010
DTEND;VALUE=DATE:20251011
DTSTAMP:20260419T171011
CREATED:20241104T213528Z
LAST-MODIFIED:20251010T235023Z
UID:37658-1760054400-1760140799@www.missouriwestern.edu
SUMMARY:World Mental Health Day
DESCRIPTION:
URL:https://www.missouriwestern.edu/hr/event/world-mental-health-day/
CATEGORIES:Human Resources
END:VEVENT
BEGIN:VEVENT
DTSTART;TZID=America/Chicago:20251010T090000
DTEND;TZID=America/Chicago:20251010T100000
DTSTAMP:20260419T171011
CREATED:20231010T002421Z
LAST-MODIFIED:20240711T210940Z
UID:25174-1760086800-1760090400@www.missouriwestern.edu
SUMMARY:Applicant Tracking System Training
DESCRIPTION:Hearnes Center\, Room 301 Please sign up here to reserve your spot.
URL:https://www.missouriwestern.edu/hr/event/applicant-tracking-system-training-44/
LOCATION:Hearnes Center\, 3700 St Joseph Ave\, Saint Joseph\, MO\, United States
CATEGORIES:Human Resources
END:VEVENT
END:VCALENDAR