BEGIN:VCALENDAR
VERSION:2.0
PRODID:-//Human Resources - ECPv5.8.1//NONSGML v1.0//EN
CALSCALE:GREGORIAN
METHOD:PUBLISH
X-WR-CALNAME:Human Resources
X-ORIGINAL-URL:https://www.missouriwestern.edu/hr
X-WR-CALDESC:Events for Human Resources
BEGIN:VTIMEZONE
TZID:America/Chicago
BEGIN:DAYLIGHT
TZOFFSETFROM:-0600
TZOFFSETTO:-0500
TZNAME:CDT
DTSTART:20220313T080000
END:DAYLIGHT
BEGIN:STANDARD
TZOFFSETFROM:-0500
TZOFFSETTO:-0600
TZNAME:CST
DTSTART:20221106T070000
END:STANDARD
END:VTIMEZONE
BEGIN:VEVENT
DTSTART;VALUE=DATE:20221117
DTEND;VALUE=DATE:20221118
DTSTAMP:20260422T040322
CREATED:20221103T202507Z
LAST-MODIFIED:20221117T230903Z
UID:13199-1668643200-1668729599@www.missouriwestern.edu
SUMMARY:National Hiking Day
DESCRIPTION:
URL:https://www.missouriwestern.edu/hr/event/national-hiking-day/
CATEGORIES:Human Resources
END:VEVENT
BEGIN:VEVENT
DTSTART;TZID=America/Chicago:20221117T083000
DTEND;TZID=America/Chicago:20221117T153000
DTSTAMP:20260422T040322
CREATED:20220831T160736Z
LAST-MODIFIED:20220921T142432Z
UID:11189-1668673800-1668699000@www.missouriwestern.edu
SUMMARY:AIG Retirement Services  One-on-One
DESCRIPTION:
URL:https://www.missouriwestern.edu/hr/event/aig-retirement-services-one-on-one-2/
LOCATION:Popplewell Room 208
CATEGORIES:Human Resources
END:VEVENT
BEGIN:VEVENT
DTSTART;TZID=America/Chicago:20221117T083000
DTEND;TZID=America/Chicago:20221117T153000
DTSTAMP:20260422T040322
CREATED:20220921T150644Z
LAST-MODIFIED:20221117T211716Z
UID:11964-1668673800-1668699000@www.missouriwestern.edu
SUMMARY:AIG Retirement Services  One-on-One
DESCRIPTION:
URL:https://www.missouriwestern.edu/hr/event/aig-retirement-services-one-on-one-3/
LOCATION:Popplewell Room 208
CATEGORIES:Human Resources
END:VEVENT
END:VCALENDAR