BEGIN:VCALENDAR
VERSION:2.0
PRODID:-//Human Resources - ECPv5.8.1//NONSGML v1.0//EN
CALSCALE:GREGORIAN
METHOD:PUBLISH
X-WR-CALNAME:Human Resources
X-ORIGINAL-URL:https://www.missouriwestern.edu/hr
X-WR-CALDESC:Events for Human Resources
BEGIN:VTIMEZONE
TZID:America/Chicago
BEGIN:DAYLIGHT
TZOFFSETFROM:-0600
TZOFFSETTO:-0500
TZNAME:CDT
DTSTART:20220313T080000
END:DAYLIGHT
BEGIN:STANDARD
TZOFFSETFROM:-0500
TZOFFSETTO:-0600
TZNAME:CST
DTSTART:20221106T070000
END:STANDARD
END:VTIMEZONE
BEGIN:VEVENT
DTSTART;VALUE=DATE:20221024
DTEND;VALUE=DATE:20221105
DTSTAMP:20260422T053435
CREATED:20220923T182217Z
LAST-MODIFIED:20221104T223958Z
UID:12037-1666569600-1667606399@www.missouriwestern.edu
SUMMARY:2023 Benefits Open Enrollment
DESCRIPTION:
URL:https://www.missouriwestern.edu/hr/event/2023-benefits-open-enrollment/
CATEGORIES:Human Resources
END:VEVENT
BEGIN:VEVENT
DTSTART;TZID=America/Chicago:20221026T114500
DTEND;TZID=America/Chicago:20221026T163000
DTSTAMP:20260422T053435
CREATED:20220908T133037Z
LAST-MODIFIED:20221026T205941Z
UID:11477-1666784700-1666801800@www.missouriwestern.edu
SUMMARY:MO Deferred Comp Retirement Seminar & Visits
DESCRIPTION:
URL:https://www.missouriwestern.edu/hr/event/mo-deferred-comp-retirement-seminar-visits/
LOCATION:Blum Student Union Room 222
CATEGORIES:Human Resources
END:VEVENT
END:VCALENDAR