BEGIN:VCALENDAR
VERSION:2.0
PRODID:-//Human Resources - ECPv5.8.1//NONSGML v1.0//EN
CALSCALE:GREGORIAN
METHOD:PUBLISH
X-WR-CALNAME:Human Resources
X-ORIGINAL-URL:https://www.missouriwestern.edu/hr
X-WR-CALDESC:Events for Human Resources
BEGIN:VTIMEZONE
TZID:America/Chicago
BEGIN:DAYLIGHT
TZOFFSETFROM:-0600
TZOFFSETTO:-0500
TZNAME:CDT
DTSTART:20240310T080000
END:DAYLIGHT
BEGIN:STANDARD
TZOFFSETFROM:-0500
TZOFFSETTO:-0600
TZNAME:CST
DTSTART:20241103T070000
END:STANDARD
END:VTIMEZONE
BEGIN:VEVENT
DTSTART;TZID=America/Chicago:20240401T083000
DTEND;TZID=America/Chicago:20240401T160000
DTSTAMP:20260420T235929
CREATED:20240124T212109Z
LAST-MODIFIED:20240401T203726Z
UID:28434-1711960200-1711987200@www.missouriwestern.edu
SUMMARY:New Orientation Employee
DESCRIPTION:
URL:https://www.missouriwestern.edu/hr/event/new-orientation-employee/
CATEGORIES:Human Resources
END:VEVENT
END:VCALENDAR