BEGIN:VCALENDAR
VERSION:2.0
PRODID:-//Human Resources - ECPv5.8.1//NONSGML v1.0//EN
CALSCALE:GREGORIAN
METHOD:PUBLISH
X-WR-CALNAME:Human Resources
X-ORIGINAL-URL:https://www.missouriwestern.edu/hr
X-WR-CALDESC:Events for Human Resources
BEGIN:VTIMEZONE
TZID:America/Chicago
BEGIN:DAYLIGHT
TZOFFSETFROM:-0600
TZOFFSETTO:-0500
TZNAME:CDT
DTSTART:20190310T080000
END:DAYLIGHT
BEGIN:STANDARD
TZOFFSETFROM:-0500
TZOFFSETTO:-0600
TZNAME:CST
DTSTART:20191103T070000
END:STANDARD
END:VTIMEZONE
BEGIN:VEVENT
DTSTART;TZID=America/Chicago:20191022T123000
DTEND;TZID=America/Chicago:20191022T133000
DTSTAMP:20260422T174140
CREATED:20190923T211855Z
LAST-MODIFIED:20190923T211929Z
UID:1865-1571747400-1571751000@www.missouriwestern.edu
SUMMARY:MEDICARE Lunch & Learn
DESCRIPTION:Join us in learning how to put Medicare parts together to achieve the best results for you! \n\nBasics of Medicare\nMedicare Supplements\nWhen are you eligible?\nWhen should you enroll?\nWhat is Medicare Part A\, B & D?\n\nPresenter: Lindsay Johnson\, New Business Manager with Senior Plus Advisors.  Lindsay and her team help assist all seniors that need health coverage as they age into Medicare.  She is trained to help clients by shopping and comparing the many senior health insurance companies that are available to Medicare beneficiaries today.  She has extensive knowledge to help you understand your Medicare options. \nYou MUST RSVP by October 11th\, to attend a session; sessions will be limited to 30 participants.  Please email Nicki Robertson at nrobertson1@missouriwestern to RSVP.  The MWSU Wellness Program will provide a box lunch for each attendee. \nRVSP by October 11th with your preferred session time (11:15a or 12:30p) AND lunch choice (ham\, turkey\, roast beef or no lunch)
URL:https://www.missouriwestern.edu/hr/event/medicare-lunch-learn-2-2019-10-22/
LOCATION:Blum Union 223
END:VEVENT
END:VCALENDAR