BEGIN:VCALENDAR
VERSION:2.0
PRODID:-//Missouri Western State University - ECPv5.8.1//NONSGML v1.0//EN
CALSCALE:GREGORIAN
METHOD:PUBLISH
X-WR-CALNAME:Missouri Western State University
X-ORIGINAL-URL:https://www.missouriwestern.edu
X-WR-CALDESC:Events for Missouri Western State University
BEGIN:VTIMEZONE
TZID:America/Chicago
BEGIN:DAYLIGHT
TZOFFSETFROM:-0600
TZOFFSETTO:-0500
TZNAME:CDT
DTSTART:20260308T080000
END:DAYLIGHT
BEGIN:STANDARD
TZOFFSETFROM:-0500
TZOFFSETTO:-0600
TZNAME:CST
DTSTART:20261101T070000
END:STANDARD
END:VTIMEZONE
BEGIN:VEVENT
DTSTART;VALUE=DATE:20260509
DTEND;VALUE=DATE:20260510
DTSTAMP:20260419T183939
CREATED:20251020T154550Z
LAST-MODIFIED:20251020T154550Z
UID:34684-1778284800-1778371199@www.missouriwestern.edu
SUMMARY:Commencement  (Spring and Summer graduates)
DESCRIPTION:
URL:https://www.missouriwestern.edu/event/commencement-spring-and-summer-graduates/
END:VEVENT
END:VCALENDAR