BEGIN:VCALENDAR
VERSION:2.0
PRODID:-//Missouri Western State University - ECPv5.8.1//NONSGML v1.0//EN
CALSCALE:GREGORIAN
METHOD:PUBLISH
X-WR-CALNAME:Missouri Western State University
X-ORIGINAL-URL:https://www.missouriwestern.edu
X-WR-CALDESC:Events for Missouri Western State University
BEGIN:VTIMEZONE
TZID:America/Chicago
BEGIN:DAYLIGHT
TZOFFSETFROM:-0600
TZOFFSETTO:-0500
TZNAME:CDT
DTSTART:20260308T080000
END:DAYLIGHT
BEGIN:STANDARD
TZOFFSETFROM:-0500
TZOFFSETTO:-0600
TZNAME:CST
DTSTART:20261101T070000
END:STANDARD
END:VTIMEZONE
BEGIN:VEVENT
DTSTART;VALUE=DATE:20260410
DTEND;VALUE=DATE:20260411
DTSTAMP:20260419T165429
CREATED:20250919T143418Z
LAST-MODIFIED:20250919T143418Z
UID:34327-1775779200-1775865599@www.missouriwestern.edu
SUMMARY:MoWest State Solo & Ensemble Clinic
DESCRIPTION:
URL:https://www.missouriwestern.edu/event/mowest-state-solo-ensemble-clinic/
CATEGORIES:SFA Choir
END:VEVENT
END:VCALENDAR