BEGIN:VCALENDAR
VERSION:2.0
PRODID:-//Missouri Western State University - ECPv5.8.1//NONSGML v1.0//EN
CALSCALE:GREGORIAN
METHOD:PUBLISH
X-WR-CALNAME:Missouri Western State University
X-ORIGINAL-URL:https://www.missouriwestern.edu
X-WR-CALDESC:Events for Missouri Western State University
BEGIN:VTIMEZONE
TZID:America/Chicago
BEGIN:DAYLIGHT
TZOFFSETFROM:-0600
TZOFFSETTO:-0500
TZNAME:CDT
DTSTART:20260308T080000
END:DAYLIGHT
BEGIN:STANDARD
TZOFFSETFROM:-0500
TZOFFSETTO:-0600
TZNAME:CST
DTSTART:20261101T070000
END:STANDARD
END:VTIMEZONE
BEGIN:VEVENT
DTSTART;VALUE=DATE:20260314
DTEND;VALUE=DATE:20260323
DTSTAMP:20260419T183839
CREATED:20251020T154425Z
LAST-MODIFIED:20251020T154425Z
UID:34674-1773446400-1774223999@www.missouriwestern.edu
SUMMARY:Spring Break (no classes/campus open)
DESCRIPTION:
URL:https://www.missouriwestern.edu/event/spring-break-no-classes-campus-open/
END:VEVENT
END:VCALENDAR