BEGIN:VCALENDAR
VERSION:2.0
PRODID:-//Missouri Western State University - ECPv5.8.1//NONSGML v1.0//EN
CALSCALE:GREGORIAN
METHOD:PUBLISH
X-WR-CALNAME:Missouri Western State University
X-ORIGINAL-URL:https://www.missouriwestern.edu
X-WR-CALDESC:Events for Missouri Western State University
BEGIN:VTIMEZONE
TZID:America/Chicago
BEGIN:DAYLIGHT
TZOFFSETFROM:-0600
TZOFFSETTO:-0500
TZNAME:CDT
DTSTART:20260308T080000
END:DAYLIGHT
BEGIN:STANDARD
TZOFFSETFROM:-0500
TZOFFSETTO:-0600
TZNAME:CST
DTSTART:20261101T070000
END:STANDARD
END:VTIMEZONE
BEGIN:VEVENT
DTSTART;TZID=America/Chicago:20260413T140000
DTEND;TZID=America/Chicago:20260413T150000
DTSTAMP:20260419T172625
CREATED:20250919T143513Z
LAST-MODIFIED:20250919T143513Z
UID:34330-1776088800-1776092400@www.missouriwestern.edu
SUMMARY:Chamber Choir at Mosaic Organ Donor Memorial
DESCRIPTION:
URL:https://www.missouriwestern.edu/event/chamber-choir-at-mosaic-organ-donor-memorial/
LOCATION:Mosaic Life Care at St. Joseph – Radiology Plaza 1\, 802 S Riverside Rd\, Saint Joseph\, MO\, United States
CATEGORIES:SFA Choir
END:VEVENT
END:VCALENDAR