BEGIN:VCALENDAR
VERSION:2.0
PRODID:-//Cinema - ECPv5.8.1//NONSGML v1.0//EN
CALSCALE:GREGORIAN
METHOD:PUBLISH
X-WR-CALNAME:Cinema
X-ORIGINAL-URL:https://www.missouriwestern.edu/cinema
X-WR-CALDESC:Events for Cinema
BEGIN:VTIMEZONE
TZID:America/Chicago
BEGIN:DAYLIGHT
TZOFFSETFROM:-0600
TZOFFSETTO:-0500
TZNAME:CDT
DTSTART:20220313T080000
END:DAYLIGHT
BEGIN:STANDARD
TZOFFSETFROM:-0500
TZOFFSETTO:-0600
TZNAME:CST
DTSTART:20221106T070000
END:STANDARD
END:VTIMEZONE
BEGIN:VEVENT
DTSTART;TZID=America/Chicago:20220423T170000
DTEND;TZID=America/Chicago:20220423T210000
DTSTAMP:20260419T201021
CREATED:20220330T135440Z
LAST-MODIFIED:20220423T190116Z
UID:3406-1650733200-1650747600@www.missouriwestern.edu
SUMMARY:Griffon Film Festival Day 2
DESCRIPTION:Day 2 overflow films \nMissouri Western School of Fine Arts & The Performing Arts Association Present the 7th Annual Griffon Film Festival. Doors open at 5:30 p.m.Shows from 6 p.m. – 9 p.m. \nThere will be a Griffon sports bus service for students on the day. The bus will pick-up @4:30pm in Potter circle (on the day)\, take everyone to the Missouri theatre for the event\, then return students back to campus @9:30pm.     \nContactToby Lawrence tlawrence7@missouriwestern.edu \nThomas Brecheisen tbrecheisen@missouriwestern.edu Tickets are $5 at the Missouri Theatre box officeStudents get in free with student I.D.
URL:https://www.missouriwestern.edu/cinema/event/griffon-film-festival-day-2/
LOCATION:Potter Theatre
ATTACH;FMTTYPE=image/jpeg:https://www.missouriwestern.edu/cinema/wp-content/uploads/sites/170/2022/03/IMG_3869.jpg
END:VEVENT
END:VCALENDAR