BEGIN:VCALENDAR
VERSION:2.0
PRODID:-//Art - ECPv5.8.1//NONSGML v1.0//EN
CALSCALE:GREGORIAN
METHOD:PUBLISH
X-WR-CALNAME:Art
X-ORIGINAL-URL:https://www.missouriwestern.edu/art
X-WR-CALDESC:Events for Art
BEGIN:VTIMEZONE
TZID:America/Chicago
BEGIN:DAYLIGHT
TZOFFSETFROM:-0600
TZOFFSETTO:-0500
TZNAME:CDT
DTSTART:20250309T080000
END:DAYLIGHT
BEGIN:STANDARD
TZOFFSETFROM:-0500
TZOFFSETTO:-0600
TZNAME:CST
DTSTART:20251102T070000
END:STANDARD
END:VTIMEZONE
BEGIN:VEVENT
DTSTART;VALUE=DATE:20251021
DTEND;VALUE=DATE:20251206
DTSTAMP:20260419T130317
CREATED:20251102T060705Z
LAST-MODIFIED:20251205T111335Z
UID:6929-1761004800-1764979199@www.missouriwestern.edu
SUMMARY:Art Exhibition - Daily Commute
DESCRIPTION:
URL:https://www.missouriwestern.edu/art/event/art-exhibition-daily-commute/
END:VEVENT
END:VCALENDAR