BEGIN:VCALENDAR
VERSION:2.0
PRODID:-//Art - ECPv5.8.1//NONSGML v1.0//EN
CALSCALE:GREGORIAN
METHOD:PUBLISH
X-WR-CALNAME:Art
X-ORIGINAL-URL:https://www.missouriwestern.edu/art
X-WR-CALDESC:Events for Art
BEGIN:VTIMEZONE
TZID:America/Chicago
BEGIN:DAYLIGHT
TZOFFSETFROM:-0600
TZOFFSETTO:-0500
TZNAME:CDT
DTSTART:20250309T080000
END:DAYLIGHT
BEGIN:STANDARD
TZOFFSETFROM:-0500
TZOFFSETTO:-0600
TZNAME:CST
DTSTART:20251102T070000
END:STANDARD
END:VTIMEZONE
BEGIN:VEVENT
DTSTART;VALUE=DATE:20250414
DTEND;VALUE=DATE:20250415
DTSTAMP:20260420T185549
CREATED:20250307T211626Z
LAST-MODIFIED:20250414T024749Z
UID:6760-1744588800-1744675199@www.missouriwestern.edu
SUMMARY:Senior Exhibition
DESCRIPTION:
URL:https://www.missouriwestern.edu/art/event/senior-exhibition-11/
END:VEVENT
END:VCALENDAR