BEGIN:VCALENDAR
VERSION:2.0
PRODID:-//Art - ECPv5.8.1//NONSGML v1.0//EN
CALSCALE:GREGORIAN
METHOD:PUBLISH
X-WR-CALNAME:Art
X-ORIGINAL-URL:https://www.missouriwestern.edu/art
X-WR-CALDESC:Events for Art
BEGIN:VTIMEZONE
TZID:America/Chicago
BEGIN:DAYLIGHT
TZOFFSETFROM:-0600
TZOFFSETTO:-0500
TZNAME:CDT
DTSTART:20240310T080000
END:DAYLIGHT
BEGIN:STANDARD
TZOFFSETFROM:-0500
TZOFFSETTO:-0600
TZNAME:CST
DTSTART:20241103T070000
END:STANDARD
END:VTIMEZONE
BEGIN:VEVENT
DTSTART;VALUE=DATE:20241018
DTEND;VALUE=DATE:20241216
DTSTAMP:20260422T013258
CREATED:20241103T060937Z
LAST-MODIFIED:20241215T120243Z
UID:6601-1729209600-1734307199@www.missouriwestern.edu
SUMMARY:MWSU Faculty & Adjunct Art Exhibition
DESCRIPTION:MWSU Faculty & Adjunct Art Exhibition
URL:https://www.missouriwestern.edu/art/event/mwsu-faculty-adjunct-art-exhibition/
LOCATION:Drew Brown Art Gallery
END:VEVENT
END:VCALENDAR