BEGIN:VCALENDAR
VERSION:2.0
PRODID:-//Art - ECPv5.8.1//NONSGML v1.0//EN
CALSCALE:GREGORIAN
METHOD:PUBLISH
X-WR-CALNAME:Art
X-ORIGINAL-URL:https://www.missouriwestern.edu/art
X-WR-CALDESC:Events for Art
BEGIN:VTIMEZONE
TZID:America/Chicago
BEGIN:DAYLIGHT
TZOFFSETFROM:-0600
TZOFFSETTO:-0500
TZNAME:CDT
DTSTART:20240310T080000
END:DAYLIGHT
BEGIN:STANDARD
TZOFFSETFROM:-0500
TZOFFSETTO:-0600
TZNAME:CST
DTSTART:20241103T070000
END:STANDARD
END:VTIMEZONE
BEGIN:VEVENT
DTSTART;TZID=America/Chicago:20240820T160000
DTEND;TZID=America/Chicago:20240820T170000
DTSTAMP:20260422T064229
CREATED:20240812T193236Z
LAST-MODIFIED:20240820T203331Z
UID:6545-1724169600-1724173200@www.missouriwestern.edu
SUMMARY:Drew Brown Reception and Unveiling
DESCRIPTION:
URL:https://www.missouriwestern.edu/art/event/drew-brown-reception-and-unveiling/
LOCATION:Potter Hall Lobby
END:VEVENT
END:VCALENDAR