BEGIN:VCALENDAR
VERSION:2.0
PRODID:-//Alumni Relations - ECPv5.8.1//NONSGML v1.0//EN
CALSCALE:GREGORIAN
METHOD:PUBLISH
X-WR-CALNAME:Alumni Relations
X-ORIGINAL-URL:https://www.missouriwestern.edu/alumni
X-WR-CALDESC:Events for Alumni Relations
BEGIN:VTIMEZONE
TZID:America/Chicago
BEGIN:DAYLIGHT
TZOFFSETFROM:-0600
TZOFFSETTO:-0500
TZNAME:CDT
DTSTART:20180311T080000
END:DAYLIGHT
BEGIN:STANDARD
TZOFFSETFROM:-0500
TZOFFSETTO:-0600
TZNAME:CST
DTSTART:20181104T070000
END:STANDARD
END:VTIMEZONE
BEGIN:VEVENT
DTSTART;TZID=America/Chicago:20181011T130000
DTEND;TZID=America/Chicago:20181011T150000
DTSTAMP:20260419T090406
CREATED:20181003T223603Z
LAST-MODIFIED:20181003T225641Z
UID:1116-1539262800-1539270000@www.missouriwestern.edu
SUMMARY:Undergraduate Etiquette Dinner
DESCRIPTION:2nd Black Alumni Reunion\nWhat:  UndergraduateEtiquette Dinner\nWhere:  Spratt Hall Rooms 214/216 (Enright Room)\nTime: 6 p.m. Social\n6:30 p.m. Program\n7 p.m. Dinner \nAdmission:  Included in the weekend package \nYou’re invited to connect with undergraduate students and provide insight about career preparation.  #Mentorship \nRegister Now
URL:https://www.missouriwestern.edu/alumni/event/undergraduate-etiquette-dinner-black-alumni-reunion/
LOCATION:Spratt Hall – Enright Room 214
CATEGORIES:Black Alumni Reunion 2018
END:VEVENT
END:VCALENDAR