BEGIN:VCALENDAR
VERSION:2.0
PRODID:-//Alumni Relations - ECPv5.8.1//NONSGML v1.0//EN
CALSCALE:GREGORIAN
METHOD:PUBLISH
X-WR-CALNAME:Alumni Relations
X-ORIGINAL-URL:https://www.missouriwestern.edu/alumni
X-WR-CALDESC:Events for Alumni Relations
BEGIN:VTIMEZONE
TZID:America/Chicago
BEGIN:DAYLIGHT
TZOFFSETFROM:-0600
TZOFFSETTO:-0500
TZNAME:CDT
DTSTART:20190310T080000
END:DAYLIGHT
BEGIN:STANDARD
TZOFFSETFROM:-0500
TZOFFSETTO:-0600
TZNAME:CST
DTSTART:20191103T070000
END:STANDARD
END:VTIMEZONE
BEGIN:VEVENT
DTSTART;TZID=America/Chicago:20191012T140000
DTEND;TZID=America/Chicago:20191012T153000
DTSTAMP:20260419T072747
CREATED:20190701T212202Z
LAST-MODIFIED:20191009T163055Z
UID:5043-1570888800-1570894200@www.missouriwestern.edu
SUMMARY:Tailgate - Homecoming 2019
DESCRIPTION:Join us before the game for a FREE tailgate. Alumni T-shirts will also be given out while supplies last. Food and non-alcoholic drinks will be provided. You may bring your alcohol in cans or plastic bottles. Remember your plastic cups! No glass please. \n 
URL:https://www.missouriwestern.edu/alumni/event/tailgate-homecoming-2019/
LOCATION:Parking Lot H\, 4525 Downs Drive\, St. Joseph\, MO\, 64507
CATEGORIES:Featured,Homecoming 2019
ATTACH;FMTTYPE=image/jpeg:https://www.missouriwestern.edu/alumni/wp-content/uploads/sites/89/2019/07/tailgate.jpg
END:VEVENT
END:VCALENDAR