BEGIN:VCALENDAR
VERSION:2.0
PRODID:-//Alumni Relations - ECPv5.8.1//NONSGML v1.0//EN
CALSCALE:GREGORIAN
METHOD:PUBLISH
X-WR-CALNAME:Alumni Relations
X-ORIGINAL-URL:https://www.missouriwestern.edu/alumni
X-WR-CALDESC:Events for Alumni Relations
BEGIN:VTIMEZONE
TZID:America/Chicago
BEGIN:DAYLIGHT
TZOFFSETFROM:-0600
TZOFFSETTO:-0500
TZNAME:CDT
DTSTART:20190310T080000
END:DAYLIGHT
BEGIN:STANDARD
TZOFFSETFROM:-0500
TZOFFSETTO:-0600
TZNAME:CST
DTSTART:20191103T070000
END:STANDARD
END:VTIMEZONE
BEGIN:VEVENT
DTSTART;TZID=America/Chicago:20191010T190000
DTEND;TZID=America/Chicago:20191010T190000
DTSTAMP:20260419T090123
CREATED:20190905T203125Z
LAST-MODIFIED:20190927T182550Z
UID:5280-1570734000-1570734000@www.missouriwestern.edu
SUMMARY:SGA Reunion Networking & Trivia
DESCRIPTION:Please join us for a networking reception and trivia games to kick off the 2019 SGA Reunion! \nReception is $5. Kids 12 and under are free. \nRegister Now
URL:https://www.missouriwestern.edu/alumni/event/sga-reunion-reception-dinner/
LOCATION:Spratt Hall – Enright Room 214
CATEGORIES:Featured,Homecoming 2019
ATTACH;FMTTYPE=image/jpeg:https://www.missouriwestern.edu/alumni/wp-content/uploads/sites/89/2019/06/SGA-Reunion.jpg
END:VEVENT
END:VCALENDAR