BEGIN:VCALENDAR
VERSION:2.0
PRODID:-//Alumni Relations - ECPv5.8.1//NONSGML v1.0//EN
CALSCALE:GREGORIAN
METHOD:PUBLISH
X-WR-CALNAME:Alumni Relations
X-ORIGINAL-URL:https://www.missouriwestern.edu/alumni
X-WR-CALDESC:Events for Alumni Relations
BEGIN:VTIMEZONE
TZID:America/Chicago
BEGIN:DAYLIGHT
TZOFFSETFROM:-0600
TZOFFSETTO:-0500
TZNAME:CDT
DTSTART:20190310T080000
END:DAYLIGHT
BEGIN:STANDARD
TZOFFSETFROM:-0500
TZOFFSETTO:-0600
TZNAME:CST
DTSTART:20191103T070000
END:STANDARD
END:VTIMEZONE
BEGIN:VEVENT
DTSTART;VALUE=DATE:20191010
DTEND;VALUE=DATE:20191013
DTSTAMP:20260419T121938
CREATED:20190625T205611Z
LAST-MODIFIED:20190906T205059Z
UID:5028-1570665600-1570924799@www.missouriwestern.edu
SUMMARY:SGA Reunion - Homecoming 2019
DESCRIPTION:Join fellow SGA\, CAB\, WAC\, and RHA alumni for two days worth of fun and reminiscing. We’ll start on the evening of Thursday\, October 10 networking with current SGA members. On Friday\, we’ll have a campus tour and lunch for alumni\, and on Saturday join us for the parade\, tailgate and football game! \nRegister Now
URL:https://www.missouriwestern.edu/alumni/event/sga-reunion-homecoming-2019/
CATEGORIES:Featured,Homecoming 2019
ATTACH;FMTTYPE=image/jpeg:https://www.missouriwestern.edu/alumni/wp-content/uploads/sites/89/2019/06/SGA-Reunion.jpg
END:VEVENT
END:VCALENDAR