BEGIN:VCALENDAR
VERSION:2.0
PRODID:-//Alumni Relations - ECPv5.8.1//NONSGML v1.0//EN
CALSCALE:GREGORIAN
METHOD:PUBLISH
X-WR-CALNAME:Alumni Relations
X-ORIGINAL-URL:https://www.missouriwestern.edu/alumni
X-WR-CALDESC:Events for Alumni Relations
BEGIN:VTIMEZONE
TZID:America/Chicago
BEGIN:DAYLIGHT
TZOFFSETFROM:-0600
TZOFFSETTO:-0500
TZNAME:CDT
DTSTART:20180311T080000
END:DAYLIGHT
BEGIN:STANDARD
TZOFFSETFROM:-0500
TZOFFSETTO:-0600
TZNAME:CST
DTSTART:20181104T070000
END:STANDARD
END:VTIMEZONE
BEGIN:VEVENT
DTSTART;TZID=America/Chicago:20181009T020000
DTEND;TZID=America/Chicago:20181009T150000
DTSTAMP:20260419T140623
CREATED:20181003T215928Z
LAST-MODIFIED:20181004T020106Z
UID:1088-1539050400-1539097200@www.missouriwestern.edu
SUMMARY:Griffon Alumni Employee Breakfast
DESCRIPTION:7 a.m.\nFood Court\nCome enjoy breakfast with our fellow alumni co-workers.  Register to win Griffon Alumni prizes! #GriffonAlumEmployee \nRegister Now
URL:https://www.missouriwestern.edu/alumni/event/griffon-alumni-employee-breakfast/
LOCATION:Food Court\, 4525 Downs Drive\, St. Joseph\, MO\, 64507
CATEGORIES:Homecoming 2018
ATTACH;FMTTYPE=image/jpeg:https://www.missouriwestern.edu/alumni/wp-content/uploads/sites/89/2018/10/Alumni-Employee-Breakfast-featured.jpg
END:VEVENT
END:VCALENDAR