BEGIN:VCALENDAR
VERSION:2.0
PRODID:-//Alumni Relations - ECPv5.8.1//NONSGML v1.0//EN
CALSCALE:GREGORIAN
METHOD:PUBLISH
X-WR-CALNAME:Alumni Relations
X-ORIGINAL-URL:https://www.missouriwestern.edu/alumni
X-WR-CALDESC:Events for Alumni Relations
BEGIN:VTIMEZONE
TZID:America/Chicago
BEGIN:DAYLIGHT
TZOFFSETFROM:-0600
TZOFFSETTO:-0500
TZNAME:CDT
DTSTART:20180311T080000
END:DAYLIGHT
BEGIN:STANDARD
TZOFFSETFROM:-0500
TZOFFSETTO:-0600
TZNAME:CST
DTSTART:20181104T070000
END:STANDARD
END:VTIMEZONE
BEGIN:VEVENT
DTSTART;TZID=America/Chicago:20181013T053000
DTEND;TZID=America/Chicago:20181013T080000
DTSTAMP:20260419T204115
CREATED:20181003T213031Z
LAST-MODIFIED:20181003T213031Z
UID:1072-1539408600-1539417600@www.missouriwestern.edu
SUMMARY:Griffettes\, Golden Girls and Mystics Reunion
DESCRIPTION:The Griffettes\, Golden Girls and Mystics are hosting a reunion!  Join them Saturday\, October 13 at the Tailgate in Parking Lot  H at 10:30 a.m.  Please register for the tailgate and indicate if you were a Griffette\, Golden Girl or Mystic!!
URL:https://www.missouriwestern.edu/alumni/event/griffettes-golden-girls-and-mystics-reunion/
LOCATION:Parking Lot H\, 4525 Downs Drive\, St. Joseph\, MO\, 64507
CATEGORIES:Homecoming 2018
ATTACH;FMTTYPE=image/jpeg:https://www.missouriwestern.edu/alumni/wp-content/uploads/sites/89/2018/10/mystics-team-picture-2018-featured.jpg
END:VEVENT
END:VCALENDAR