BEGIN:VCALENDAR
VERSION:2.0
PRODID:-//Alumni Relations - ECPv5.8.1//NONSGML v1.0//EN
CALSCALE:GREGORIAN
METHOD:PUBLISH
X-WR-CALNAME:Alumni Relations
X-ORIGINAL-URL:https://www.missouriwestern.edu/alumni
X-WR-CALDESC:Events for Alumni Relations
BEGIN:VTIMEZONE
TZID:America/Chicago
BEGIN:DAYLIGHT
TZOFFSETFROM:-0600
TZOFFSETTO:-0500
TZNAME:CDT
DTSTART:20190310T080000
END:DAYLIGHT
BEGIN:STANDARD
TZOFFSETFROM:-0500
TZOFFSETTO:-0600
TZNAME:CST
DTSTART:20191103T070000
END:STANDARD
END:VTIMEZONE
BEGIN:VEVENT
DTSTART;VALUE=DATE:20190521
DTEND;VALUE=DATE:20190602
DTSTAMP:20260419T122122
CREATED:20181116T032238Z
LAST-MODIFIED:20181116T032238Z
UID:1849-1558465200-1559415599@www.missouriwestern.edu
SUMMARY:Greece and Greek Islands Tour
DESCRIPTION:Join the Alumni Association and Dr. Jimmy Albright on the trip of a lifetime. Tour Greece and the Greek Islands as you follow in St. Paul’s footsteps. \nLearn More Here
URL:https://www.missouriwestern.edu/alumni/event/greece-and-greek-islands-tour/
CATEGORIES:Featured
ATTACH;FMTTYPE=image/jpeg:https://www.missouriwestern.edu/alumni/wp-content/uploads/sites/89/2018/09/greece-trip-featured.jpg
END:VEVENT
END:VCALENDAR