BEGIN:VCALENDAR
VERSION:2.0
PRODID:-//Alumni Relations - ECPv5.8.1//NONSGML v1.0//EN
CALSCALE:GREGORIAN
METHOD:PUBLISH
X-WR-CALNAME:Alumni Relations
X-ORIGINAL-URL:https://www.missouriwestern.edu/alumni
X-WR-CALDESC:Events for Alumni Relations
BEGIN:VTIMEZONE
TZID:America/Chicago
BEGIN:DAYLIGHT
TZOFFSETFROM:-0600
TZOFFSETTO:-0500
TZNAME:CDT
DTSTART:20190310T080000
END:DAYLIGHT
BEGIN:STANDARD
TZOFFSETFROM:-0500
TZOFFSETTO:-0600
TZNAME:CST
DTSTART:20191103T070000
END:STANDARD
END:VTIMEZONE
BEGIN:VEVENT
DTSTART;TZID=America/Chicago:20190812T081500
DTEND;TZID=America/Chicago:20190812T081500
DTSTAMP:20260419T121916
CREATED:20190725T195006Z
LAST-MODIFIED:20190729T210127Z
UID:5133-1565597700-1565597700@www.missouriwestern.edu
SUMMARY:Future Griffs/Club Max Day at Chiefs Training Camp
DESCRIPTION:Register Now\n\nWhat:         Future Griffs/Club Max Day at Chiefs Training Camp\nWhen:        Monday\, August 12\, 2019 – Practice Starts at 8:15am\nWhere:       MWSU Campus\, Chiefs Training Camp – Pavilion (for registration)\nCost:          FREE \nEach participant will receive:\n• A chance to win (4) tickets to a Chiefs Game (one winner)\n• A chance to be a helmet walker with a Chiefs player (two winners)\n• A coupon for a free hot-dog and bottle of water\n• MWSU fall athletic schedules and posters\n• A meet and greet with MWSU football players\n• The chance to take a photo with Max the Griffon\n• Up close and personal viewing of the Chiefs as they get ready for the season\n• Play time at the Chiefs Kids Zone \nDon’t forget your sharpies for autographs – it is Defensive Backs Autograph Day!
URL:https://www.missouriwestern.edu/alumni/event/future-griffs-club-max-day-at-chiefs-training-camp/
LOCATION:Bill Snyder Pavilion\, 4525 Downs Drive\, St. Joseph\, MO\, 64507\, American Samoa
CATEGORIES:Featured
ATTACH;FMTTYPE=image/jpeg:https://www.missouriwestern.edu/alumni/wp-content/uploads/sites/89/2019/07/Club-Max-Day-2019-1.jpg
END:VEVENT
END:VCALENDAR