BEGIN:VCALENDAR
VERSION:2.0
PRODID:-//Alumni Relations - ECPv5.8.1//NONSGML v1.0//EN
CALSCALE:GREGORIAN
METHOD:PUBLISH
X-WR-CALNAME:Alumni Relations
X-ORIGINAL-URL:https://www.missouriwestern.edu/alumni
X-WR-CALDESC:Events for Alumni Relations
BEGIN:VTIMEZONE
TZID:America/Chicago
BEGIN:DAYLIGHT
TZOFFSETFROM:-0600
TZOFFSETTO:-0500
TZNAME:CDT
DTSTART:20190310T080000
END:DAYLIGHT
BEGIN:STANDARD
TZOFFSETFROM:-0500
TZOFFSETTO:-0600
TZNAME:CST
DTSTART:20191103T070000
END:STANDARD
END:VTIMEZONE
BEGIN:VEVENT
DTSTART;TZID=America/Chicago:20190507T113000
DTEND;TZID=America/Chicago:20190507T140000
DTSTAMP:20260419T152335
CREATED:20190328T190228Z
LAST-MODIFIED:20190502T164822Z
UID:4718-1557228600-1557237600@www.missouriwestern.edu
SUMMARY:Forever Griffons Lunch & Learn
DESCRIPTION:The Forever Griffons Steering Committee invites you to attend our first Lunch and Learn.  Missouri Western President\, Dr. Robert Vartabedian\, will be our guide as we explore the Life and Legacy of Walter Cronkite. \nWhen:  May 7\, 2019 \nWhere:  Spratt Hall Rooms 214/216 \nCost:  $15 per person \nAgenda:  11:30 a.m. – Lunch \n12 p.m. – Presentation by Dr. Robert Vartabedian \n1 p.m. – Self-guided tour of the Walter Cronkite Memorial Tour \nRegistration: Online registrations are no longer being accepted. Please contact Alicia Otto at (816) 271-5670 for more information.
URL:https://www.missouriwestern.edu/alumni/event/forever-griffons-lunch-learn/
LOCATION:Spratt Hall – Enright Room 214
CATEGORIES:Featured
ATTACH;FMTTYPE=image/jpeg:https://www.missouriwestern.edu/alumni/wp-content/uploads/sites/89/2019/03/Walter-Lunch-and-Learn.jpg
END:VEVENT
END:VCALENDAR