BEGIN:VCALENDAR
VERSION:2.0
PRODID:-//Alumni Relations - ECPv5.8.1//NONSGML v1.0//EN
CALSCALE:GREGORIAN
METHOD:PUBLISH
X-WR-CALNAME:Alumni Relations
X-ORIGINAL-URL:https://www.missouriwestern.edu/alumni
X-WR-CALDESC:Events for Alumni Relations
BEGIN:VTIMEZONE
TZID:America/Chicago
BEGIN:DAYLIGHT
TZOFFSETFROM:-0600
TZOFFSETTO:-0500
TZNAME:CDT
DTSTART:20190310T080000
END:DAYLIGHT
BEGIN:STANDARD
TZOFFSETFROM:-0500
TZOFFSETTO:-0600
TZNAME:CST
DTSTART:20191103T070000
END:STANDARD
END:VTIMEZONE
BEGIN:VEVENT
DTSTART;TZID=America/Chicago:20190904T110000
DTEND;TZID=America/Chicago:20190904T110000
DTSTAMP:20260419T121628
CREATED:20190731T152232Z
LAST-MODIFIED:20191009T163425Z
UID:5153-1567594800-1567594800@www.missouriwestern.edu
SUMMARY:Forever Griffons Lunch and Learn
DESCRIPTION:Join us for our Forever Griffons Lunch & Learn on Wednesday\, September 4! The fun starts at 11 a.m. in the Hall of Fame Room in Spratt Memorial Stadium. \nPresident Matt Wilson and his wife\, Noriko\, will talk about their experiences living in Japan. \nWe are serving an Eastern Influences Chilled Buffet and cost is $15 per person. \nReservations required — register online at missouriwestern.edu/alumni/lunchandlearn/ or call (816) 271-5670. \nThe menu: \n\nTeriyaki Salmon on Sweet Chili Cucumber\nOrange Glazed Chicken with Sesame Spinach\nCoriander Peanut Ramen Noodles\nSzechuan Green Beans\nAssorted Cookies\nIced Tea & Water\n\nThe schedule: \n\n11:00 am – Check-in and Mingle\n11:30 am – Lunch\n12:00 pm – President Wilson’s Presentation
URL:https://www.missouriwestern.edu/alumni/event/forever-griffons-lunch-and-learn/
LOCATION:Spratt Memorial Stadium – Hall of Fame Room\, 4525 Downs Drive\, St. Joseph\, MO\, 64507
CATEGORIES:Featured
ATTACH;FMTTYPE=image/jpeg:https://www.missouriwestern.edu/alumni/wp-content/uploads/sites/89/2019/07/Lunch-and-Learn-featured.jpg
END:VEVENT
END:VCALENDAR