BEGIN:VCALENDAR
VERSION:2.0
PRODID:-//Alumni Relations - ECPv5.8.1//NONSGML v1.0//EN
CALSCALE:GREGORIAN
METHOD:PUBLISH
X-WR-CALNAME:Alumni Relations
X-ORIGINAL-URL:https://www.missouriwestern.edu/alumni
X-WR-CALDESC:Events for Alumni Relations
BEGIN:VTIMEZONE
TZID:America/Chicago
BEGIN:DAYLIGHT
TZOFFSETFROM:-0600
TZOFFSETTO:-0500
TZNAME:CDT
DTSTART:20190310T080000
END:DAYLIGHT
BEGIN:STANDARD
TZOFFSETFROM:-0500
TZOFFSETTO:-0600
TZNAME:CST
DTSTART:20191103T070000
END:STANDARD
END:VTIMEZONE
BEGIN:VEVENT
DTSTART;TZID=America/Chicago:20191013T113000
DTEND;TZID=America/Chicago:20191013T140000
DTSTAMP:20260419T093035
CREATED:20190711T195159Z
LAST-MODIFIED:20191009T160953Z
UID:5093-1570966200-1570975200@www.missouriwestern.edu
SUMMARY:Forever Griffons Homecoming Luncheon
DESCRIPTION:Alumni from Junior College through the Class of 1979 are invited to join us at the Forever Griffons Luncheon. Receive a campus update from President Matt Wilson and reminisce with your classmates in Spratt Hall\, Enright Room 216. \n11:30 a.m. – Social Time\n12:00 p.m. – Lunch\n1:00 p.m. – President Wilson Welcome\n1:30 p.m. – Student Performance\n2:00 p.m. – Conclusion \n 
URL:https://www.missouriwestern.edu/alumni/event/forever-griffons-homecoming-luncheon/
LOCATION:Spratt Hall – Enright Room 216
CATEGORIES:Featured,Homecoming 2019
ATTACH;FMTTYPE=image/jpeg:https://www.missouriwestern.edu/alumni/wp-content/uploads/sites/89/2019/07/forever-griffons-luncheon.jpg
END:VEVENT
END:VCALENDAR