BEGIN:VCALENDAR
VERSION:2.0
PRODID:-//Alumni Relations - ECPv5.8.1//NONSGML v1.0//EN
CALSCALE:GREGORIAN
METHOD:PUBLISH
X-WR-CALNAME:Alumni Relations
X-ORIGINAL-URL:https://www.missouriwestern.edu/alumni
X-WR-CALDESC:Events for Alumni Relations
BEGIN:VTIMEZONE
TZID:America/Chicago
BEGIN:DAYLIGHT
TZOFFSETFROM:-0600
TZOFFSETTO:-0500
TZNAME:CDT
DTSTART:20190310T080000
END:DAYLIGHT
BEGIN:STANDARD
TZOFFSETFROM:-0500
TZOFFSETTO:-0600
TZNAME:CST
DTSTART:20191103T070000
END:STANDARD
END:VTIMEZONE
BEGIN:VEVENT
DTSTART;TZID=America/Chicago:20191012T160000
DTEND;TZID=America/Chicago:20191012T160000
DTSTAMP:20260419T074723
CREATED:20190905T205109Z
LAST-MODIFIED:20191009T163034Z
UID:5292-1570896000-1570896000@www.missouriwestern.edu
SUMMARY:Football Game - MWSU vs. Missouri Southern
DESCRIPTION:Child Admission (6 and under): Free \nYouth Tickets (7-18): $5 \nAlumni General Admission (Adults) Tickets: $10 \nPurchase your tickets here. They will be available for pick up at the Spratt Stadium Will Call.
URL:https://www.missouriwestern.edu/alumni/event/football-game-mwsu-vs-missouri-southern/
LOCATION:Craig Field at Spratt Memorial Stadium\, 4525 Downs Drive\, St. Joseph\, MO\, 64507
CATEGORIES:Featured,Homecoming 2019
END:VEVENT
END:VCALENDAR