BEGIN:VCALENDAR
VERSION:2.0
PRODID:-//Alumni Relations - ECPv5.8.1//NONSGML v1.0//EN
CALSCALE:GREGORIAN
METHOD:PUBLISH
X-WR-CALNAME:Alumni Relations
X-ORIGINAL-URL:https://www.missouriwestern.edu/alumni
X-WR-CALDESC:Events for Alumni Relations
BEGIN:VTIMEZONE
TZID:America/Chicago
BEGIN:DAYLIGHT
TZOFFSETFROM:-0600
TZOFFSETTO:-0500
TZNAME:CDT
DTSTART:20180311T080000
END:DAYLIGHT
BEGIN:STANDARD
TZOFFSETFROM:-0500
TZOFFSETTO:-0600
TZNAME:CST
DTSTART:20181104T070000
END:STANDARD
END:VTIMEZONE
BEGIN:VEVENT
DTSTART;TZID=America/Chicago:20181014T033000
DTEND;TZID=America/Chicago:20181014T120000
DTSTAMP:20260419T224020
CREATED:20181003T224351Z
LAST-MODIFIED:20181003T225728Z
UID:1131-1539487800-1539518400@www.missouriwestern.edu
SUMMARY:Ecumenical Service
DESCRIPTION:2nd Black Alumni Reunion\nWhat:  Ecumenical Service\nWhere:  TBA\nTime:  8:30 a.m.\nAdmission:  N/A \nLet us take a moment to give thanks and praise.
URL:https://www.missouriwestern.edu/alumni/event/ecumenical-service-black-alumni-reunion/
CATEGORIES:Black Alumni Reunion 2018
END:VEVENT
END:VCALENDAR