BEGIN:VCALENDAR
VERSION:2.0
PRODID:-//Alumni Relations - ECPv5.8.1//NONSGML v1.0//EN
CALSCALE:GREGORIAN
METHOD:PUBLISH
X-WR-CALNAME:Alumni Relations
X-ORIGINAL-URL:https://www.missouriwestern.edu/alumni
X-WR-CALDESC:Events for Alumni Relations
BEGIN:VTIMEZONE
TZID:America/Chicago
BEGIN:DAYLIGHT
TZOFFSETFROM:-0600
TZOFFSETTO:-0500
TZNAME:CDT
DTSTART:20180311T080000
END:DAYLIGHT
BEGIN:STANDARD
TZOFFSETFROM:-0500
TZOFFSETTO:-0600
TZNAME:CST
DTSTART:20181104T070000
END:STANDARD
END:VTIMEZONE
BEGIN:VEVENT
DTSTART;TZID=America/Chicago:20181007T130000
DTEND;TZID=America/Chicago:20181007T130000
DTSTAMP:20260419T192029
CREATED:20181003T220436Z
LAST-MODIFIED:20181003T220436Z
UID:1092-1538917200-1538917200@www.missouriwestern.edu
SUMMARY:Cookout and Bonfire
DESCRIPTION:Help kick off homecoming by coming to the Under the Big Top Kickoff\, Cookout and Bonfire beginning at 6 p.m. Sunday\, Oct. 7\, in Lot H in front of the Baker Family Fitness Center. Activities taking place at this event will include the following: \n\nLast minute team registration\nDJ\nBBQ\nRoyalty introductions\nBurning of the opposing Team’s Helmet\nCarnival Games & Activities\nPrizes
URL:https://www.missouriwestern.edu/alumni/event/cookout-and-bonfire/
LOCATION:Parking Lot H\, 4525 Downs Drive\, St. Joseph\, MO\, 64507
CATEGORIES:Homecoming 2018
ATTACH;FMTTYPE=image/jpeg:https://www.missouriwestern.edu/alumni/wp-content/uploads/sites/89/2018/09/homecoming-2018-featured-1.jpg
END:VEVENT
END:VCALENDAR