BEGIN:VCALENDAR
VERSION:2.0
PRODID:-//Alumni Relations - ECPv5.8.1//NONSGML v1.0//EN
CALSCALE:GREGORIAN
METHOD:PUBLISH
X-WR-CALNAME:Alumni Relations
X-ORIGINAL-URL:https://www.missouriwestern.edu/alumni
X-WR-CALDESC:Events for Alumni Relations
BEGIN:VTIMEZONE
TZID:America/Chicago
BEGIN:DAYLIGHT
TZOFFSETFROM:-0600
TZOFFSETTO:-0500
TZNAME:CDT
DTSTART:20180311T080000
END:DAYLIGHT
BEGIN:STANDARD
TZOFFSETFROM:-0500
TZOFFSETTO:-0600
TZNAME:CST
DTSTART:20181104T070000
END:STANDARD
END:VTIMEZONE
BEGIN:VEVENT
DTSTART;TZID=America/Chicago:20181215T050000
DTEND;TZID=America/Chicago:20181215T050000
DTSTAMP:20260419T165318
CREATED:20181018T220946Z
LAST-MODIFIED:20181018T220946Z
UID:1670-1544850000-1544850000@www.missouriwestern.edu
SUMMARY:Commencement
DESCRIPTION:
URL:https://www.missouriwestern.edu/alumni/event/commencement/
LOCATION:Looney Sports Complex\, 4525 Downs Drive\, St. Joseph\, Missouri\, 64507
CATEGORIES:Featured
ATTACH;FMTTYPE=image/jpeg:https://www.missouriwestern.edu/alumni/wp-content/uploads/sites/89/2018/10/commencement-featured.jpg
END:VEVENT
END:VCALENDAR