BEGIN:VCALENDAR
VERSION:2.0
PRODID:-//Alumni Relations - ECPv5.8.1//NONSGML v1.0//EN
CALSCALE:GREGORIAN
METHOD:PUBLISH
X-WR-CALNAME:Alumni Relations
X-ORIGINAL-URL:https://www.missouriwestern.edu/alumni
X-WR-CALDESC:Events for Alumni Relations
BEGIN:VTIMEZONE
TZID:America/Chicago
BEGIN:DAYLIGHT
TZOFFSETFROM:-0600
TZOFFSETTO:-0500
TZNAME:CDT
DTSTART:20180311T080000
END:DAYLIGHT
BEGIN:STANDARD
TZOFFSETFROM:-0500
TZOFFSETTO:-0600
TZNAME:CST
DTSTART:20181104T070000
END:STANDARD
END:VTIMEZONE
BEGIN:VEVENT
DTSTART;TZID=America/Chicago:20181009T060000
DTEND;TZID=America/Chicago:20181009T113000
DTSTAMP:20260419T140623
CREATED:20181003T220621Z
LAST-MODIFIED:20181003T221150Z
UID:1094-1539064800-1539084600@www.missouriwestern.edu
SUMMARY:Blood Drive
DESCRIPTION:Missouri Western will be competing against Northwest Missouri State University to have the most blood donations. The blood drives will be held from 11 a.m. to 4:30 p.m. Tuesday\, Oct. 9\, through Thursday\, Oct. 11\, in Blum Student Union rooms 218/219. \nStudents have four options to get their organization points for the blood drive: \n1: Donate Blood and receive a ticket. \n2: Work as a Blood Buddy if they are not able to give blood or worried about giving blood. \n3: Volunteer to wear the Blood Drop Suit for 30 minutes. \n4: Volunteer at the collection site for 30 minutes doing other things that are needed.
URL:https://www.missouriwestern.edu/alumni/event/blood-drive/
LOCATION:Blum Union 218/219\, 4525 Downs Drive\, St. Joseph\, MO\, 64507
CATEGORIES:Homecoming 2018
END:VEVENT
END:VCALENDAR