BEGIN:VCALENDAR
VERSION:2.0
PRODID:-//Alumni Relations - ECPv5.8.1//NONSGML v1.0//EN
CALSCALE:GREGORIAN
METHOD:PUBLISH
X-WR-CALNAME:Alumni Relations
X-ORIGINAL-URL:https://www.missouriwestern.edu/alumni
X-WR-CALDESC:Events for Alumni Relations
BEGIN:VTIMEZONE
TZID:America/Chicago
BEGIN:DAYLIGHT
TZOFFSETFROM:-0600
TZOFFSETTO:-0500
TZNAME:CDT
DTSTART:20180311T080000
END:DAYLIGHT
BEGIN:STANDARD
TZOFFSETFROM:-0500
TZOFFSETTO:-0600
TZNAME:CST
DTSTART:20181104T070000
END:STANDARD
END:VTIMEZONE
BEGIN:VEVENT
DTSTART;TZID=America/Chicago:20181013T130000
DTEND;TZID=America/Chicago:20181013T130000
DTSTAMP:20260419T172336
CREATED:20181003T224156Z
LAST-MODIFIED:20181003T235556Z
UID:1127-1539435600-1539435600@www.missouriwestern.edu
SUMMARY:Black Excellence Dinner
DESCRIPTION:2nd Black Alumni Reunion\nWhat:  Black Excellence Dinner\nWhere:  Spratt Hall 214/216 (Enright Room)\nTime:  6 p.m.\nAdmission:  Included in the weekend package \nA celebration of culture and community at Missouri Western and beyond.   \nRegister Now
URL:https://www.missouriwestern.edu/alumni/event/black-excellence-dinner-black-alumni-reunion/
LOCATION:Spratt Hall – Enright Room 214
CATEGORIES:Black Alumni Reunion 2018,Featured
ATTACH;FMTTYPE=image/jpeg:https://www.missouriwestern.edu/alumni/wp-content/uploads/sites/89/2018/09/homecoming-2018-featured.jpg
END:VEVENT
END:VCALENDAR