BEGIN:VCALENDAR
VERSION:2.0
PRODID:-//Alumni Relations - ECPv5.8.1//NONSGML v1.0//EN
CALSCALE:GREGORIAN
METHOD:PUBLISH
X-WR-CALNAME:Alumni Relations
X-ORIGINAL-URL:https://www.missouriwestern.edu/alumni
X-WR-CALDESC:Events for Alumni Relations
BEGIN:VTIMEZONE
TZID:America/Chicago
BEGIN:DAYLIGHT
TZOFFSETFROM:-0600
TZOFFSETTO:-0500
TZNAME:CDT
DTSTART:20190310T080000
END:DAYLIGHT
BEGIN:STANDARD
TZOFFSETFROM:-0500
TZOFFSETTO:-0600
TZNAME:CST
DTSTART:20191103T070000
END:STANDARD
END:VTIMEZONE
BEGIN:VEVENT
DTSTART;VALUE=DATE:20191007
DTEND;VALUE=DATE:20191008
DTSTAMP:20260419T105214
CREATED:20190625T204747Z
LAST-MODIFIED:20190905T201450Z
UID:5017-1570406400-1570492799@www.missouriwestern.edu
SUMMARY:Black and Gold Day - Homecoming 2019
DESCRIPTION:Kick off homecoming week by wearing your Missouri Western wear or black and gold. Post a selfie – or a group shot of you and your alumni co-workers in your black and gold – and hashtag it #BlackAndGoldDay
URL:https://www.missouriwestern.edu/alumni/event/black-and-gold-day-homecoming-2019/
CATEGORIES:Featured,Homecoming 2019
ATTACH;FMTTYPE=image/jpeg:https://www.missouriwestern.edu/alumni/wp-content/uploads/sites/89/2019/06/black-and-gold-day.jpg
END:VEVENT
END:VCALENDAR