BEGIN:VCALENDAR
VERSION:2.0
PRODID:-//Alumni Relations - ECPv5.8.1//NONSGML v1.0//EN
CALSCALE:GREGORIAN
METHOD:PUBLISH
X-WR-CALNAME:Alumni Relations
X-ORIGINAL-URL:https://www.missouriwestern.edu/alumni
X-WR-CALDESC:Events for Alumni Relations
BEGIN:VTIMEZONE
TZID:America/Chicago
BEGIN:DAYLIGHT
TZOFFSETFROM:-0600
TZOFFSETTO:-0500
TZNAME:CDT
DTSTART:20180311T080000
END:DAYLIGHT
BEGIN:STANDARD
TZOFFSETFROM:-0500
TZOFFSETTO:-0600
TZNAME:CST
DTSTART:20181104T070000
END:STANDARD
END:VTIMEZONE
BEGIN:VEVENT
DTSTART;TZID=America/Chicago:20181014T050000
DTEND;TZID=America/Chicago:20181014T060000
DTSTAMP:20260419T224309
CREATED:20181003T224449Z
LAST-MODIFIED:20181003T225709Z
UID:1133-1539493200-1539496800@www.missouriwestern.edu
SUMMARY:Black Alumni Farewell Scholarship Brunch
DESCRIPTION:2nd Black Alumni Reunion\nWhat:  Black Alumni Farewell Scholarship Brunch\nWhere:  Spratt 214/216 (Enright Room)\nTime:  10 a.m.\nAdmission:  Included in the weekend package \nMeet Dr. Robert Vartabedian\, President of Missouri Western\, and break bread with fellow alumni. \nRegister Now
URL:https://www.missouriwestern.edu/alumni/event/black-alumni-farewell-scholarship-brunch-black-alumni-reunion/
LOCATION:Spratt Hall – Enright Room 214
CATEGORIES:Black Alumni Reunion 2018
END:VEVENT
END:VCALENDAR