BEGIN:VCALENDAR
VERSION:2.0
PRODID:-//Alumni Relations - ECPv5.8.1//NONSGML v1.0//EN
CALSCALE:GREGORIAN
METHOD:PUBLISH
X-WR-CALNAME:Alumni Relations
X-ORIGINAL-URL:https://www.missouriwestern.edu/alumni
X-WR-CALDESC:Events for Alumni Relations
BEGIN:VTIMEZONE
TZID:America/Chicago
BEGIN:DAYLIGHT
TZOFFSETFROM:-0600
TZOFFSETTO:-0500
TZNAME:CDT
DTSTART:20180311T080000
END:DAYLIGHT
BEGIN:STANDARD
TZOFFSETFROM:-0500
TZOFFSETTO:-0600
TZNAME:CST
DTSTART:20181104T070000
END:STANDARD
END:VTIMEZONE
BEGIN:VEVENT
DTSTART;TZID=America/Chicago:20181012T043000
DTEND;TZID=America/Chicago:20181012T043000
DTSTAMP:20260419T085907
CREATED:20180922T011637Z
LAST-MODIFIED:20181004T020122Z
UID:920-1539318600-1539318600@www.missouriwestern.edu
SUMMARY:Alumni Golf Outing
DESCRIPTION:Friday\, October 12 \n9:30 a.m. Registration\, 10 a.m. Shotgun Start \nFairview Golf Course in St. Joseph \n$50 per person/$200 per team of 4 \nDrink cart sponsored by Norty’s Bar & Grill \nRegister Now
URL:https://www.missouriwestern.edu/alumni/event/alumni-golf-outing/
LOCATION:Fairview Golf Course\, St. Joseph\, MO
CATEGORIES:Featured,Homecoming 2018
ATTACH;FMTTYPE=image/jpeg:https://www.missouriwestern.edu/alumni/wp-content/uploads/sites/89/2018/09/Golf-outing-featured.jpg
END:VEVENT
END:VCALENDAR