BEGIN:VCALENDAR
VERSION:2.0
PRODID:-//Alumni Relations - ECPv5.8.1//NONSGML v1.0//EN
CALSCALE:GREGORIAN
METHOD:PUBLISH
X-WR-CALNAME:Alumni Relations
X-ORIGINAL-URL:https://www.missouriwestern.edu/alumni
X-WR-CALDESC:Events for Alumni Relations
BEGIN:VTIMEZONE
TZID:America/Chicago
BEGIN:DAYLIGHT
TZOFFSETFROM:-0600
TZOFFSETTO:-0500
TZNAME:CDT
DTSTART:20190310T080000
END:DAYLIGHT
BEGIN:STANDARD
TZOFFSETFROM:-0500
TZOFFSETTO:-0600
TZNAME:CST
DTSTART:20191103T070000
END:STANDARD
END:VTIMEZONE
BEGIN:VEVENT
DTSTART;TZID=America/Chicago:20191011T173000
DTEND;TZID=America/Chicago:20191011T203000
DTSTAMP:20260419T090404
CREATED:20190625T205336Z
LAST-MODIFIED:20191009T163326Z
UID:5025-1570815000-1570825800@www.missouriwestern.edu
SUMMARY:Alumni Awards Banquet - Homecoming 2019
DESCRIPTION:Join fellow alumni as well as faculty\, staff and community members as we celebrate outstanding alumni achievement. \n5:30 p.m. Reception\, 6:15 p.m. Dinner and Program \n$35 per person or $280 for a table of 8 \n\nDistinguished Alumni Award: Dr. Jamel Santa Cruze Wright ’00\, president\, Eureka College\nGOLD (Graduate of the Last Decade) Award: Chelsey Kusek ’09\, Lead Elementary Art Teacher\, North Kansas City School District\nHerb ’35 & Peggy Iffert Award for Outstanding Service to the University: Pat Dillon\, Chief Government and Community Relations Officer\nDistinguished Faculty Award: Dr. Tom Rachow\, Department of Biology\nGreat Griffon Awards: Craig School of Business & Technology – Jacob Cunning ’16; Liberal Arts and Sciences – Duane Martin ’89; Professional Studies – Mary Vaughan ’79; School of Nursing and Health Professions – Jaime Bartley ’17\nStudent Leadership Awards: Clifford Hughes ’55 Award – Benjamin Allen ’19; Dr. Robert A. Vartabedian International Student of the Year – Shi Qing Ong ’19; Graduating Student of the Year – Evan Banks ’19\n\nRegistration required. 
URL:https://www.missouriwestern.edu/alumni/event/alumni-awards-banquet-homecoming-2019/
LOCATION:Fulkerson Center\, 4525 Downs Drive\, St. Joseph\, MO\, 64507
CATEGORIES:Featured,Homecoming 2019
ATTACH;FMTTYPE=image/jpeg:https://www.missouriwestern.edu/alumni/wp-content/uploads/sites/89/2019/06/Alumni-awards-banquet.jpg
END:VEVENT
END:VCALENDAR