BEGIN:VCALENDAR
VERSION:2.0
PRODID:-//Alumni Relations - ECPv5.8.1//NONSGML v1.0//EN
CALSCALE:GREGORIAN
METHOD:PUBLISH
X-WR-CALNAME:Alumni Relations
X-ORIGINAL-URL:https://www.missouriwestern.edu/alumni
X-WR-CALDESC:Events for Alumni Relations
BEGIN:VTIMEZONE
TZID:America/Chicago
BEGIN:DAYLIGHT
TZOFFSETFROM:-0600
TZOFFSETTO:-0500
TZNAME:CDT
DTSTART:20190310T080000
END:DAYLIGHT
BEGIN:STANDARD
TZOFFSETFROM:-0500
TZOFFSETTO:-0600
TZNAME:CST
DTSTART:20191103T070000
END:STANDARD
END:VTIMEZONE
BEGIN:VEVENT
DTSTART;TZID=America/Chicago:20190311T120000
DTEND;TZID=America/Chicago:20190311T133000
DTSTAMP:20260419T153630
CREATED:20190202T000249Z
LAST-MODIFIED:20190227T020448Z
UID:4399-1552305600-1552311000@www.missouriwestern.edu
SUMMARY:Alumni Admissions Team - St. Joseph
DESCRIPTION:Join the Alumni Admissions Team! Join us as we sign postcards to newly admitted students from your region.\nSt. Joseph area alumni\, we’ll see you on March 12 at 5 p.m. on campus\, Spratt Hall\, Room 109\n\n\n\n  \n 
URL:https://www.missouriwestern.edu/alumni/event/alumni-admissions-team-st-joseph/
LOCATION:Spratt Hall Room 109\, 4525 Downs Drive\, St. Joseph\, MO\, 64506
CATEGORIES:Featured
ATTACH;FMTTYPE=image/jpeg:https://www.missouriwestern.edu/alumni/wp-content/uploads/sites/89/2019/02/MW12M_ALUMNI-PC-1.jpg
END:VEVENT
END:VCALENDAR