BEGIN:VCALENDAR
VERSION:2.0
PRODID:-//Alumni Relations - ECPv5.8.1//NONSGML v1.0//EN
CALSCALE:GREGORIAN
METHOD:PUBLISH
X-WR-CALNAME:Alumni Relations
X-ORIGINAL-URL:https://www.missouriwestern.edu/alumni
X-WR-CALDESC:Events for Alumni Relations
BEGIN:VTIMEZONE
TZID:America/Chicago
BEGIN:DAYLIGHT
TZOFFSETFROM:-0600
TZOFFSETTO:-0500
TZNAME:CDT
DTSTART:20180311T080000
END:DAYLIGHT
BEGIN:STANDARD
TZOFFSETFROM:-0500
TZOFFSETTO:-0600
TZNAME:CST
DTSTART:20181104T070000
END:STANDARD
END:VTIMEZONE
BEGIN:VEVENT
DTSTART;TZID=America/Chicago:20181012T160000
DTEND;TZID=America/Chicago:20181012T160000
DTSTAMP:20260419T074739
CREATED:20181003T223937Z
LAST-MODIFIED:20181003T230444Z
UID:1122-1539360000-1539360000@www.missouriwestern.edu
SUMMARY:A Night Among the Stars\, Cosmic Bowl/Karaoke
DESCRIPTION:2nd Black Alumni Reunion\nWhat:  A Night Among the Stars\, Cosmic Bowl/Karaoke\nWhere:  Belt Bowl – 210 N. Belt Highway\nTime:  9 p.m.\nAdmission:  Included  in the weekend package \nEverybody get your bowl on!  Join us for a fun-filled evening as we take it back down memory lane. \nRegister Now
URL:https://www.missouriwestern.edu/alumni/event/a-night-among-the-stars-cosmic-bowl-karaoke-black-alumni-reunion/
LOCATION:Belt Bowl\, 210 N. Belt Highway\, St. Joseph\, MO\, 64506
CATEGORIES:Black Alumni Reunion 2018
END:VEVENT
END:VCALENDAR